
BEGIN:VCALENDAR
VERSION:2.0
PRODID:-//Quingey - ECPv6.15.20//NONSGML v1.0//EN
CALSCALE:GREGORIAN
METHOD:PUBLISH
X-WR-CALNAME:Quingey
X-ORIGINAL-URL:https://quingey.fr
X-WR-CALDESC:Évènements pour Quingey
REFRESH-INTERVAL;VALUE=DURATION:PT1H
X-Robots-Tag:noindex
X-PUBLISHED-TTL:PT1H
BEGIN:VTIMEZONE
TZID:UTC
BEGIN:STANDARD
TZOFFSETFROM:+0000
TZOFFSETTO:+0000
TZNAME:UTC
DTSTART:20250101T000000
END:STANDARD
END:VTIMEZONE
BEGIN:VEVENT
DTSTART;TZID=UTC:20260307T140000
DTEND;TZID=UTC:20260307T170000
DTSTAMP:20260421T082439
CREATED:20260205T103008Z
LAST-MODIFIED:20260205T103008Z
UID:12029-1772892000-1772902800@quingey.fr
SUMMARY:CARNAVAL
DESCRIPTION:
URL:https://quingey.fr/evenement/carnaval/
LOCATION:Cour de l’école
CATEGORIES:Animations,Festivités
END:VEVENT
END:VCALENDAR