
BEGIN:VCALENDAR
VERSION:2.0
PRODID:-//Quingey - ECPv6.15.20//NONSGML v1.0//EN
CALSCALE:GREGORIAN
METHOD:PUBLISH
X-ORIGINAL-URL:https://quingey.fr
X-WR-CALDESC:Évènements pour Quingey
REFRESH-INTERVAL;VALUE=DURATION:PT1H
X-Robots-Tag:noindex
X-PUBLISHED-TTL:PT1H
BEGIN:VTIMEZONE
TZID:UTC
BEGIN:STANDARD
TZOFFSETFROM:+0000
TZOFFSETTO:+0000
TZNAME:UTC
DTSTART:20240101T000000
END:STANDARD
END:VTIMEZONE
BEGIN:VEVENT
DTSTART;TZID=UTC:20250101T080000
DTEND;TZID=UTC:20250731T170000
DTSTAMP:20260423T180249
CREATED:20250129T104513Z
LAST-MODIFIED:20250129T104513Z
UID:10887-1735718400-1753981200@quingey.fr
SUMMARY:Saison culturelle 1er semestre 2025
DESCRIPTION:Voici le programme de la saison culturelle pour le 1er semestre 2025 \nprogramme culturel hiver printemps 2025
URL:https://quingey.fr/evenement/saison-culturelle-1er-semestre-2025/
CATEGORIES:Animations
ATTACH;FMTTYPE=application/pdf:https://quingey.fr/wp-content/uploads/2025/01/office-culturel.pdf
END:VEVENT
BEGIN:VEVENT
DTSTART;TZID=UTC:20250101T080000
DTEND;TZID=UTC:20251231T170000
DTSTAMP:20260423T180249
CREATED:20250404T074731Z
LAST-MODIFIED:20250404T075518Z
UID:11073-1735718400-1767200400@quingey.fr
SUMMARY:Quingey sports nature 2025
DESCRIPTION:
URL:https://quingey.fr/evenement/quingey-sports-nature-2025/
CATEGORIES:Sport
ATTACH;FMTTYPE=image/jpeg:https://quingey.fr/wp-content/uploads/2025/04/2025-quingey-sport-nature.jpg
END:VEVENT
BEGIN:VEVENT
DTSTART;TZID=UTC:20250123T080000
DTEND;TZID=UTC:20250629T170000
DTSTAMP:20260423T180249
CREATED:20250123T082937Z
LAST-MODIFIED:20250123T082937Z
UID:10854-1737619200-1751216400@quingey.fr
SUMMARY:Café des aidants 1er semestre 2025
DESCRIPTION:
URL:https://quingey.fr/evenement/cafe-des-aidants-1er-semestre-2025/
LOCATION:Mairie de Quingey\, salle des Murmures\, Quingey\, 25440\, France
CATEGORIES:Autres événements
ATTACH;FMTTYPE=application/pdf:https://quingey.fr/wp-content/uploads/2025/01/cafe_des_aidants-3.pdf
END:VEVENT
BEGIN:VEVENT
DTSTART;TZID=UTC:20250205T080000
DTEND;TZID=UTC:20250430T170000
DTSTAMP:20260423T180249
CREATED:20250205T101843Z
LAST-MODIFIED:20250205T101844Z
UID:10913-1738742400-1746032400@quingey.fr
SUMMARY:Maison des adolescents
DESCRIPTION:La Maison des adolescents est un lieu d’écoute\, de conseils et d’accompagnement pour les jeunes de 12 à 21 ans\, ainsi que pour leurs familles et leurs proches.\nTous peuvent y trouver des réponses à leurs préoccupations qu’elles soient physiques\, psychiques\, relationnelles\, sociales\, éducatives ou juridiques.\nPermanence 2025 à France Services Ornans et France Services Quingey
URL:https://quingey.fr/evenement/maison-des-adolescents/
LOCATION:France Service
CATEGORIES:Autres événements
ATTACH;FMTTYPE=application/pdf:https://quingey.fr/wp-content/uploads/2025/02/permanence-maison-des-ados.pdf
END:VEVENT
BEGIN:VEVENT
DTSTART;TZID=UTC:20250301T080000
DTEND;TZID=UTC:20250430T170000
DTSTAMP:20260423T180249
CREATED:20250225T161654Z
LAST-MODIFIED:20250225T161655Z
UID:10956-1740816000-1746032400@quingey.fr
SUMMARY:Agenda du relais petit enfance mars avril 2025
DESCRIPTION:Agenda mars avril 2025
URL:https://quingey.fr/evenement/agenda-du-relais-petit-enfance-mars-avril-2025/
LOCATION:Relais petite enfante
CATEGORIES:Animations
ATTACH;FMTTYPE=application/pdf:https://quingey.fr/wp-content/uploads/2025/02/relais_mars_avril.pdf
END:VEVENT
BEGIN:VEVENT
DTSTART;TZID=UTC:20250401T080000
DTEND;TZID=UTC:20250430T233000
DTSTAMP:20260423T180249
CREATED:20250328T163139Z
LAST-MODIFIED:20250328T163139Z
UID:11050-1743494400-1746055800@quingey.fr
SUMMARY:Planning d'avril à la médiathèque
DESCRIPTION:– Mardi 01 avril à 18h15 : l’habituel cercle de lecture pour échanger autour de vos lectures dans la convivialité ! \n– Vendredi 04 avril à 10h : le temps de lectures et comptines à destination des enfants de 0 à 3 ans\, en partenariat avec le Relais Petite Enfance. \n– Samedi 12 avril de 09h15 à 12h15 : les associations L’Invent’Terre des Possibles et Forêver vous proposent de participer à un “atelier 2 tonnes”\, atelier immersif pour imaginer le futur et agir pour la transition écologique\, sociale et heureuse ! A partir de 15 ans. Inscrivez-vous sans tarder ! \n– Lundi 14 avril de 18h à 20h : atelier d’écriture animé par Rachel Lamy Dirand.\nNul besoin d’être littéraire ou écrivain\, venez laisser voguer votre imagination à travers l’écriture !\nNombre limité à 10 personnes. A partir de 14 ans. Pas d’engagement sur l’année\, à la carte. \n– Vendredi 18 avril à 20h : pour clore le cyle “Rodiathèque”\, ciné-concert “L’homme à la caméra”\, de Dziga Vertov par Généric. Durée 1h10. A l’espace culturel.\nEn partenariat avec la salle de musiques actuelles La RODIA et la médiathèque départementale du Doubs. Ados / adultes\, entrée libre. \nPendant les vacances de printemps : \n– Mardi 22 avril de 10h à 11h30 : atelier autour des abeilles avec Fabienne de l’association TRI. Échanges autour de la vie de la ruche\, création de bougies. Tous publics dès 7 ans. Sur inscription. \n– Mercredi 23 avril entre 15h et 21h : après-midi jeux de société pour tous publics. Apportez vos jeux préférés pour nous les faire découvrir\, ou venez profiter de notre fonds de jeux ! Adultes et enfants dès 3 ans. \nEnfin\, nous vous rappelons que nous inaugurons demain l’Espace de Vie Sociale du Pays de Quingey\, à 10h15.\nVenez passer un moment avec nous\, découvrir les actions de l’EVS\, et échanger dans la convivialité ! \nAu plaisir de vous compter parmi nous pour ces évènements ! \nCordialement\,\nL’équipe de la médiathèque\nPour nous suivre :\nNotre blog: https://mediathequedupaysdequingey.wordpress.com/\nNotre page Facebook : Médiathèque du Pays de Quingey
URL:https://quingey.fr/evenement/planning-davril-a-la-mediatheque/
LOCATION:médiathèque de Quingey
CATEGORIES:Animations
ATTACH;FMTTYPE=image/jpeg:https://quingey.fr/wp-content/uploads/2025/03/2025-04_mediatheque.jpg
END:VEVENT
BEGIN:VEVENT
DTSTART;TZID=UTC:20250402T080000
DTEND;TZID=UTC:20251231T170000
DTSTAMP:20260423T180249
CREATED:20250402T093557Z
LAST-MODIFIED:20250402T093557Z
UID:11064-1743580800-1767200400@quingey.fr
SUMMARY:Permanence CIDFF
DESCRIPTION:Permanence du centre d’information sur les droits des femmes et des familles \nTous les 1er mercredi de 9h à 12h \nUniquement sur rendez-vous au 03 81 25 66 69
URL:https://quingey.fr/evenement/permanence-cidff/
LOCATION:France Service
CATEGORIES:Autres événements
ATTACH;FMTTYPE=application/pdf:https://quingey.fr/wp-content/uploads/2025/04/2025-FS_CIDFF.pdf
END:VEVENT
BEGIN:VEVENT
DTSTART;TZID=UTC:20250404T080000
DTEND;TZID=UTC:20250430T170000
DTSTAMP:20260423T180249
CREATED:20250401T123951Z
LAST-MODIFIED:20250407T114643Z
UID:11057-1743753600-1746032400@quingey.fr
SUMMARY:Un fil à la patte par le théâtre de la maridelle
DESCRIPTION:Le théâtre de la Maridelle présente “un fil à la patte” de Georges FEYDEAU \nAdaptation et mise en scène par Jacqueline HENRY-LELOUP \nréservation au 06 74 11 70 92 \nDate de spectacles : \nles vendredis 4\, 11 et 25 avril 2025 à 20h30 \nles samedis 5 et 26 avril 2025 à 20h30 \nLe samedi 12 avril 2025 à 14h30 \nLes dimanches 6\, 13 et 27 avril à 15h30 \nà l’espace culturel de Quingey \n 
URL:https://quingey.fr/evenement/un-fil-a-la-patte-par-le-theatre-de-la-maridelle/
LOCATION:Espace culturel de Quingey\, 16 rue de l'école\, Quingey\, 25440\, France
CATEGORIES:Théatre
ATTACH;FMTTYPE=application/pdf:https://quingey.fr/wp-content/uploads/2025/04/2025-04_maridelle.pdf
END:VEVENT
BEGIN:VEVENT
DTSTART;TZID=UTC:20250411T100000
DTEND;TZID=UTC:20250412T180000
DTSTAMP:20260423T180249
CREATED:20250410T065034Z
LAST-MODIFIED:20250410T065034Z
UID:11092-1744365600-1744480800@quingey.fr
SUMMARY:Portes ouvertes ateliers créatifs
DESCRIPTION:
URL:https://quingey.fr/evenement/portes-ouvertes-ateliers-creatifs/
LOCATION:ANTIC ET THE
CATEGORIES:Animations
ATTACH;FMTTYPE=application/pdf:https://quingey.fr/wp-content/uploads/2025/04/2025-04-11_12_antic_the.pdf
END:VEVENT
BEGIN:VEVENT
DTSTART;TZID=UTC:20250412T120000
DTEND;TZID=UTC:20250412T170000
DTSTAMP:20260423T180249
CREATED:20250403T070825Z
LAST-MODIFIED:20250403T070826Z
UID:11067-1744459200-1744477200@quingey.fr
SUMMARY:Atelier 2 tonnes
DESCRIPTION:Les associations l’Inven’Terre des Possibles et Forêver vous proposent de participer à un atelier immersif pour imaginer le futur et agir pour la transition écologique\, sociale et heureuse !\n\n\nLe samedi 12 avril de 9h15 à 12h15. A partir de 15 ans.
URL:https://quingey.fr/evenement/atelier-2-tonnes/
LOCATION:médiathèque de Quingey
CATEGORIES:Animations
ATTACH;FMTTYPE=image/jpeg:https://quingey.fr/wp-content/uploads/2025/04/atelier-2-tonnes.jpg
END:VEVENT
BEGIN:VEVENT
DTSTART;TZID=UTC:20250418T080000
DTEND;TZID=UTC:20250420T230000
DTSTAMP:20260423T180249
CREATED:20250321T104100Z
LAST-MODIFIED:20250321T104100Z
UID:11034-1744963200-1745190000@quingey.fr
SUMMARY:cabaret Wanubida présente "La Tournée du Facteur"
DESCRIPTION:Spectacle de cirque poétique et absurde\, mêlant arts du cirque\, théâtre\, danse et musique live\, le cabaret Wanubida présente “La Tournée du Facteur” (texte descriptif plus bas) \n  \nLe spectacle aura lieu à Quingey au chapiteau de La Mal Lunée (6 Rte d’Ornans 25440 QUINGEY: \nLe Vendredi 18 Avril à 20h \nLe Samedi 19 Avril à 16h \nLe Dimanche 20 Avril à 16h \n  \nC’est un spectacle tout public à partir de 5 ans \n  \nles prix sont au choix conscient: \n16€ (on paye toute l’équipe) \n12€ (on paye 1/2 de l’équipe) \n8€ (on paye les frais\, et on est content de vous voir) \n  \nréservation : https://www.billetweb.fr/cabaret-wanubida2&src=agenda \nréservations téléphone 06.31.22.48.54 / 06.44.78.67.60
URL:https://quingey.fr/evenement/cabaret-wanubida-presente-la-tournee-du-facteur/
LOCATION:Châpiteau de la mal luné
CATEGORIES:Spectacle
ATTACH;FMTTYPE=application/pdf:https://quingey.fr/wp-content/uploads/2025/03/2025-04-18-19-20_wanudiba.pdf
END:VEVENT
BEGIN:VEVENT
DTSTART;TZID=UTC:20250418T170000
DTEND;TZID=UTC:20250418T220000
DTSTAMP:20260423T180249
CREATED:20250416T081505Z
LAST-MODIFIED:20250416T081506Z
UID:11110-1744995600-1745013600@quingey.fr
SUMMARY:Reprise du marché de saison
DESCRIPTION:
URL:https://quingey.fr/evenement/reprise-du-marche-de-saison/
LOCATION:place de la confrérie
CATEGORIES:Autres événements
ATTACH;FMTTYPE=image/jpeg:https://quingey.fr/wp-content/uploads/2025/04/2025-04-18_marche_saison.jpg
ORGANIZER;CN="Mairie de Quingey":MAILTO:mairie-quingey@orange.fr
END:VEVENT
BEGIN:VEVENT
DTSTART;TZID=UTC:20250418T200000
DTEND;TZID=UTC:20250418T233000
DTSTAMP:20260423T180249
CREATED:20250404T075353Z
LAST-MODIFIED:20250404T075353Z
UID:11076-1745006400-1745019000@quingey.fr
SUMMARY:Ciné-concert "l'homme à la caméra"
DESCRIPTION:
URL:https://quingey.fr/evenement/cine-concert-lhomme-a-la-camera/
LOCATION:médiathèque de Quingey
CATEGORIES:Concert
ATTACH;FMTTYPE=image/jpeg:https://quingey.fr/wp-content/uploads/2025/04/AFFICHE_MEDIATHEQUE_RODIATHEQUE_250418_QUINGEY-1-scaled.jpg
END:VEVENT
BEGIN:VEVENT
DTSTART;TZID=UTC:20250427T123000
DTEND;TZID=UTC:20250427T173000
DTSTAMP:20260423T180249
CREATED:20250416T064026Z
LAST-MODIFIED:20250416T064026Z
UID:11099-1745757000-1745775000@quingey.fr
SUMMARY:Concert Antic et Thé de Jean-Pierre Mouton
DESCRIPTION:
URL:https://quingey.fr/evenement/concert-antic-et-the-de-jean-pierre-mouton/
LOCATION:ANTIC ET THE
CATEGORIES:Concert
ATTACH;FMTTYPE=image/png:https://quingey.fr/wp-content/uploads/2025/04/2025-04-27_anitc-the-scaled.png
END:VEVENT
BEGIN:VEVENT
DTSTART;TZID=UTC:20250428T160000
DTEND;TZID=UTC:20250428T210000
DTSTAMP:20260423T180249
CREATED:20250418T132209Z
LAST-MODIFIED:20250418T132209Z
UID:11128-1745856000-1745874000@quingey.fr
SUMMARY:Don du sang Saint Vit
DESCRIPTION:
URL:https://quingey.fr/evenement/don-du-sang-saint-vit/
LOCATION:Espace culturel de Quingey\, 16 rue de l'école\, Quingey\, 25440\, France
CATEGORIES:Autres événements
ATTACH;FMTTYPE=application/pdf:https://quingey.fr/wp-content/uploads/2025/04/2025-04-28_don-sang-st-vit.pdf
END:VEVENT
END:VCALENDAR