
BEGIN:VCALENDAR
VERSION:2.0
PRODID:-//Quingey - ECPv6.15.20//NONSGML v1.0//EN
CALSCALE:GREGORIAN
METHOD:PUBLISH
X-WR-CALNAME:Quingey
X-ORIGINAL-URL:https://quingey.fr
X-WR-CALDESC:Évènements pour Quingey
REFRESH-INTERVAL;VALUE=DURATION:PT1H
X-Robots-Tag:noindex
X-PUBLISHED-TTL:PT1H
BEGIN:VTIMEZONE
TZID:UTC
BEGIN:STANDARD
TZOFFSETFROM:+0000
TZOFFSETTO:+0000
TZNAME:UTC
DTSTART:20240101T000000
END:STANDARD
END:VTIMEZONE
BEGIN:VEVENT
DTSTART;TZID=UTC:20250101T080000
DTEND;TZID=UTC:20250731T170000
DTSTAMP:20260423T151018
CREATED:20250129T104513Z
LAST-MODIFIED:20250129T104513Z
UID:10887-1735718400-1753981200@quingey.fr
SUMMARY:Saison culturelle 1er semestre 2025
DESCRIPTION:Voici le programme de la saison culturelle pour le 1er semestre 2025 \nprogramme culturel hiver printemps 2025
URL:https://quingey.fr/evenement/saison-culturelle-1er-semestre-2025/
CATEGORIES:Animations
ATTACH;FMTTYPE=application/pdf:https://quingey.fr/wp-content/uploads/2025/01/office-culturel.pdf
END:VEVENT
BEGIN:VEVENT
DTSTART;TZID=UTC:20250101T080000
DTEND;TZID=UTC:20251231T170000
DTSTAMP:20260423T151018
CREATED:20250404T074731Z
LAST-MODIFIED:20250404T075518Z
UID:11073-1735718400-1767200400@quingey.fr
SUMMARY:Quingey sports nature 2025
DESCRIPTION:
URL:https://quingey.fr/evenement/quingey-sports-nature-2025/
CATEGORIES:Sport
ATTACH;FMTTYPE=image/jpeg:https://quingey.fr/wp-content/uploads/2025/04/2025-quingey-sport-nature.jpg
END:VEVENT
BEGIN:VEVENT
DTSTART;TZID=UTC:20250123T080000
DTEND;TZID=UTC:20250629T170000
DTSTAMP:20260423T151018
CREATED:20250123T082937Z
LAST-MODIFIED:20250123T082937Z
UID:10854-1737619200-1751216400@quingey.fr
SUMMARY:Café des aidants 1er semestre 2025
DESCRIPTION:
URL:https://quingey.fr/evenement/cafe-des-aidants-1er-semestre-2025/
LOCATION:Mairie de Quingey\, salle des Murmures\, Quingey\, 25440\, France
CATEGORIES:Autres événements
ATTACH;FMTTYPE=application/pdf:https://quingey.fr/wp-content/uploads/2025/01/cafe_des_aidants-3.pdf
END:VEVENT
BEGIN:VEVENT
DTSTART;TZID=UTC:20250402T080000
DTEND;TZID=UTC:20251231T170000
DTSTAMP:20260423T151018
CREATED:20250402T093557Z
LAST-MODIFIED:20250402T093557Z
UID:11064-1743580800-1767200400@quingey.fr
SUMMARY:Permanence CIDFF
DESCRIPTION:Permanence du centre d’information sur les droits des femmes et des familles \nTous les 1er mercredi de 9h à 12h \nUniquement sur rendez-vous au 03 81 25 66 69
URL:https://quingey.fr/evenement/permanence-cidff/
LOCATION:France Service
CATEGORIES:Autres événements
ATTACH;FMTTYPE=application/pdf:https://quingey.fr/wp-content/uploads/2025/04/2025-FS_CIDFF.pdf
END:VEVENT
BEGIN:VEVENT
DTSTART;TZID=UTC:20250501T080000
DTEND;TZID=UTC:20250630T233000
DTSTAMP:20260423T151018
CREATED:20250425T142841Z
LAST-MODIFIED:20250425T142841Z
UID:11133-1746086400-1751326200@quingey.fr
SUMMARY:Calendrier mai juin du relais d'assistantes maternelles
DESCRIPTION:
URL:https://quingey.fr/evenement/calendrier-mai-juin-du-relais-dassistantes-maternelles/
CATEGORIES:Autres événements
ATTACH;FMTTYPE=application/pdf:https://quingey.fr/wp-content/uploads/2025/04/2025-05-06_RAM.pdf
END:VEVENT
BEGIN:VEVENT
DTSTART;TZID=UTC:20250515T080000
DTEND;TZID=UTC:20250608T170000
DTSTAMP:20260423T151018
CREATED:20250515T114953Z
LAST-MODIFIED:20250516T063941Z
UID:11222-1747296000-1749402000@quingey.fr
SUMMARY:Ateliers danse expression improvisation
DESCRIPTION:
URL:https://quingey.fr/evenement/ateliers-danse-expression-improvisation/
CATEGORIES:Autres événements
END:VEVENT
BEGIN:VEVENT
DTSTART;TZID=UTC:20250601T080000
DTEND;TZID=UTC:20250630T230000
DTSTAMP:20260423T151018
CREATED:20250530T150357Z
LAST-MODIFIED:20250530T150357Z
UID:11261-1748764800-1751324400@quingey.fr
SUMMARY:Fermeture exceptionnelle France Service Quingey juin 2025
DESCRIPTION:
URL:https://quingey.fr/evenement/fermeture-exceptionnelle-france-service-quingey-juin-2025/
CATEGORIES:Autres événements
ATTACH;FMTTYPE=image/jpeg:https://quingey.fr/wp-content/uploads/2025/05/2025-06_fermeture-FS-scaled.jpg
END:VEVENT
BEGIN:VEVENT
DTSTART;TZID=UTC:20250605T080000
DTEND;TZID=UTC:20250605T170000
DTSTAMP:20260423T151018
CREATED:20250605T060034Z
LAST-MODIFIED:20250605T060157Z
UID:11270-1749110400-1749142800@quingey.fr
SUMMARY:
DESCRIPTION:
URL:https://quingey.fr/evenement/11270/
CATEGORIES:Animations
END:VEVENT
BEGIN:VEVENT
DTSTART;TZID=UTC:20250607T134500
DTEND;TZID=UTC:20250607T170000
DTSTAMP:20260423T151018
CREATED:20250602T130835Z
LAST-MODIFIED:20250602T130836Z
UID:11264-1749303900-1749315600@quingey.fr
SUMMARY:Spectacle atelier danse
DESCRIPTION:
URL:https://quingey.fr/evenement/spectacle-atelier-danse/
CATEGORIES:Spectacle
ATTACH;FMTTYPE=image/jpeg:https://quingey.fr/wp-content/uploads/2025/06/2025-06-07_DanseaQuingey70525.jpg
END:VEVENT
BEGIN:VEVENT
DTSTART;VALUE=DATE:20250608
DTEND;VALUE=DATE:20250609
DTSTAMP:20260423T151018
CREATED:20250605T060321Z
LAST-MODIFIED:20250605T124700Z
UID:11274-1749340800-1749427199@quingey.fr
SUMMARY:RANDONNEE
DESCRIPTION:
URL:https://quingey.fr/evenement/11274/
CATEGORIES:Autres événements
END:VEVENT
BEGIN:VEVENT
DTSTART;TZID=UTC:20250613T170000
DTEND;TZID=UTC:20250613T230000
DTSTAMP:20260423T151018
CREATED:20250425T143148Z
LAST-MODIFIED:20250425T143148Z
UID:11136-1749834000-1749855600@quingey.fr
SUMMARY:Où es tu doudou
DESCRIPTION:
URL:https://quingey.fr/evenement/ou-es-tu-doudou/
CATEGORIES:Spectacle
ATTACH;FMTTYPE=image/png:https://quingey.fr/wp-content/uploads/2025/04/2025-06-13_Spectacle-ou-es-tu-Doudou.png
END:VEVENT
BEGIN:VEVENT
DTSTART;TZID=UTC:20250614T080000
DTEND;TZID=UTC:20250614T223000
DTSTAMP:20260423T151018
CREATED:20250416T074141Z
LAST-MODIFIED:20250416T074141Z
UID:11106-1749888000-1749940200@quingey.fr
SUMMARY:La quingeoise en marche
DESCRIPTION:Rendez-vous le 𝐬𝐚𝐦𝐞𝐝𝐢 𝟏𝟒 𝐉𝐔𝐈𝐍 𝟐𝟎𝟐𝟓 :\n Format semi-nocturne.\n 3 parcours de randonnée : 8\, 12 et 16 km environ\n Soirée festive avec barbecue \n\n\n 𝐈𝐧𝐬𝐜𝐫𝐢𝐩𝐭𝐢𝐨𝐧𝐬 𝐞𝐭 𝐢𝐧𝐟𝐨𝐫𝐦𝐚𝐭𝐢𝐨𝐧𝐬 : https://www.even-outdoor.com/courses/index.php?m=courses&a=courses&resultats=&id_evenement=620
URL:https://quingey.fr/evenement/la-quingeoise-en-marche/
CATEGORIES:Sport
ATTACH;FMTTYPE=application/pdf:https://quingey.fr/wp-content/uploads/2025/04/2025-06-14_quingeoise.pdf
END:VEVENT
BEGIN:VEVENT
DTSTART;TZID=UTC:20250615T123000
DTEND;TZID=UTC:20250615T173000
DTSTAMP:20260423T151018
CREATED:20250605T080418Z
LAST-MODIFIED:20250605T080418Z
UID:11279-1749990600-1750008600@quingey.fr
SUMMARY:Concert à Antic et Thé
DESCRIPTION:
URL:https://quingey.fr/evenement/concert-a-antic-et-the/
LOCATION:ANTIC ET THE
CATEGORIES:Concert
ATTACH;FMTTYPE=image/jpeg:https://quingey.fr/wp-content/uploads/2025/06/2025-15-06_antic-the_insta.jpg
END:VEVENT
BEGIN:VEVENT
DTSTART;TZID=UTC:20250620T183000
DTEND;TZID=UTC:20250620T230000
DTSTAMP:20260423T151018
CREATED:20250404T135405Z
LAST-MODIFIED:20250404T135405Z
UID:11080-1750444200-1750460400@quingey.fr
SUMMARY:Fête de la musique
DESCRIPTION:
URL:https://quingey.fr/evenement/fete-de-la-musique/
CATEGORIES:Concert
ATTACH;FMTTYPE=image/png:https://quingey.fr/wp-content/uploads/2025/04/fete-de-la-musique.png
END:VEVENT
BEGIN:VEVENT
DTSTART;TZID=UTC:20250623T080000
DTEND;TZID=UTC:20250623T170000
DTSTAMP:20260423T151018
CREATED:20250623T061734Z
LAST-MODIFIED:20250623T061734Z
UID:11306-1750665600-1750698000@quingey.fr
SUMMARY:Grand nettoyage
DESCRIPTION:
URL:https://quingey.fr/evenement/grand-nettoyage/
CATEGORIES:Autres événements
END:VEVENT
BEGIN:VEVENT
DTSTART;TZID=UTC:20250623T080000
DTEND;TZID=UTC:20250623T170000
DTSTAMP:20260423T151018
CREATED:20250623T061823Z
LAST-MODIFIED:20250623T061823Z
UID:11308-1750665600-1750698000@quingey.fr
SUMMARY:MUSICA LOUE
DESCRIPTION:
URL:https://quingey.fr/evenement/musica-loue/
CATEGORIES:Autres événements
END:VEVENT
BEGIN:VEVENT
DTSTART;TZID=UTC:20250623T080000
DTEND;TZID=UTC:20250623T170000
DTSTAMP:20260423T151018
CREATED:20250623T064437Z
LAST-MODIFIED:20250623T064437Z
UID:11311-1750665600-1750698000@quingey.fr
SUMMARY:Bain de forêt
DESCRIPTION:
URL:https://quingey.fr/evenement/bain-de-foret/
CATEGORIES:Autres événements
END:VEVENT
END:VCALENDAR