
BEGIN:VCALENDAR
VERSION:2.0
PRODID:-//Quingey - ECPv6.15.20//NONSGML v1.0//EN
CALSCALE:GREGORIAN
METHOD:PUBLISH
X-WR-CALNAME:Quingey
X-ORIGINAL-URL:https://quingey.fr
X-WR-CALDESC:Évènements pour Quingey
REFRESH-INTERVAL;VALUE=DURATION:PT1H
X-Robots-Tag:noindex
X-PUBLISHED-TTL:PT1H
BEGIN:VTIMEZONE
TZID:UTC
BEGIN:STANDARD
TZOFFSETFROM:+0000
TZOFFSETTO:+0000
TZNAME:UTC
DTSTART:20240101T000000
END:STANDARD
END:VTIMEZONE
BEGIN:VEVENT
DTSTART;TZID=UTC:20250101T080000
DTEND;TZID=UTC:20251231T170000
DTSTAMP:20260423T103753
CREATED:20250404T074731Z
LAST-MODIFIED:20250404T075518Z
UID:11073-1735718400-1767200400@quingey.fr
SUMMARY:Quingey sports nature 2025
DESCRIPTION:
URL:https://quingey.fr/evenement/quingey-sports-nature-2025/
CATEGORIES:Sport
ATTACH;FMTTYPE=image/jpeg:https://quingey.fr/wp-content/uploads/2025/04/2025-quingey-sport-nature.jpg
END:VEVENT
BEGIN:VEVENT
DTSTART;TZID=UTC:20250402T080000
DTEND;TZID=UTC:20251231T170000
DTSTAMP:20260423T103753
CREATED:20250402T093557Z
LAST-MODIFIED:20250402T093557Z
UID:11064-1743580800-1767200400@quingey.fr
SUMMARY:Permanence CIDFF
DESCRIPTION:Permanence du centre d’information sur les droits des femmes et des familles \nTous les 1er mercredi de 9h à 12h \nUniquement sur rendez-vous au 03 81 25 66 69
URL:https://quingey.fr/evenement/permanence-cidff/
LOCATION:France Service
CATEGORIES:Autres événements
ATTACH;FMTTYPE=application/pdf:https://quingey.fr/wp-content/uploads/2025/04/2025-FS_CIDFF.pdf
END:VEVENT
BEGIN:VEVENT
DTSTART;TZID=UTC:20250825T080000
DTEND;TZID=UTC:20250913T170000
DTSTAMP:20260423T103753
CREATED:20250808T082701Z
LAST-MODIFIED:20250808T084856Z
UID:11467-1756108800-1757782800@quingey.fr
SUMMARY:Programme AdvaïtaLCie - Boutique mouvement
DESCRIPTION:
URL:https://quingey.fr/evenement/boutique-mouvement/
CATEGORIES:Animations
END:VEVENT
BEGIN:VEVENT
DTSTART;TZID=UTC:20250901T080000
DTEND;TZID=UTC:20251030T170000
DTSTAMP:20260423T103753
CREATED:20250825T152028Z
LAST-MODIFIED:20250825T152034Z
UID:11529-1756713600-1761843600@quingey.fr
SUMMARY:AFFOUAGE 2025- 2026
DESCRIPTION:
URL:https://quingey.fr/evenement/affouage-2025-2026/
CATEGORIES:Autres événements
END:VEVENT
BEGIN:VEVENT
DTSTART;TZID=UTC:20250901T080000
DTEND;TZID=UTC:20251231T190000
DTSTAMP:20260423T103753
CREATED:20250725T134424Z
LAST-MODIFIED:20250725T134425Z
UID:11432-1756713600-1767207600@quingey.fr
SUMMARY:Permanence semestre 2
DESCRIPTION:
URL:https://quingey.fr/evenement/permanence-semestre-2/
CATEGORIES:Autres événements
ATTACH;FMTTYPE=image/jpeg:https://quingey.fr/wp-content/uploads/2025/07/2025-permanence-maison-ado.jpg
END:VEVENT
BEGIN:VEVENT
DTSTART;TZID=UTC:20250901T080000
DTEND;TZID=UTC:20260630T170000
DTSTAMP:20260423T103753
CREATED:20250801T142422Z
LAST-MODIFIED:20250801T142423Z
UID:11458-1756713600-1782838800@quingey.fr
SUMMARY:Atelier théatre
DESCRIPTION:
URL:https://quingey.fr/evenement/atelier-theatre/
CATEGORIES:Théatre
ATTACH;FMTTYPE=application/pdf:https://quingey.fr/wp-content/uploads/2025/08/Punk-a-mouton.pdf
END:VEVENT
BEGIN:VEVENT
DTSTART;TZID=UTC:20250902T080000
DTEND;TZID=UTC:20250902T170000
DTSTAMP:20260423T103753
CREATED:20250902T123412Z
LAST-MODIFIED:20250902T123442Z
UID:11569-1756800000-1756832400@quingey.fr
SUMMARY:Partageons nos sports
DESCRIPTION:
URL:https://quingey.fr/evenement/partageons-nos-sports/
CATEGORIES:Sport
END:VEVENT
BEGIN:VEVENT
DTSTART;TZID=UTC:20250902T080000
DTEND;TZID=UTC:20250902T170000
DTSTAMP:20260423T103753
CREATED:20250904T101009Z
LAST-MODIFIED:20250904T101009Z
UID:11597-1756800000-1756832400@quingey.fr
SUMMARY:CALENDRIER DES ANIMATIONS ET EVENEMENTS DE LA MEDIATHEQUE
DESCRIPTION:
URL:https://quingey.fr/evenement/calendrier-des-animations-et-evenements-de-la-mediatheque/
LOCATION:médiathèque de Quingey
CATEGORIES:Animations
END:VEVENT
BEGIN:VEVENT
DTSTART;TZID=UTC:20250903T080000
DTEND;TZID=UTC:20250903T170000
DTSTAMP:20260423T103753
CREATED:20250903T061319Z
LAST-MODIFIED:20250903T061319Z
UID:11576-1756886400-1756918800@quingey.fr
SUMMARY:Boutique du mouvement
DESCRIPTION:
URL:https://quingey.fr/evenement/boutique-du-mouvement/
CATEGORIES:Animations,Festivités
END:VEVENT
BEGIN:VEVENT
DTSTART;TZID=UTC:20250903T080000
DTEND;TZID=UTC:20250903T170000
DTSTAMP:20260423T103753
CREATED:20250903T061417Z
LAST-MODIFIED:20250903T061417Z
UID:11578-1756886400-1756918800@quingey.fr
SUMMARY:Exposition La Petite Zane
DESCRIPTION:
URL:https://quingey.fr/evenement/exposition-la-petite-zane/
CATEGORIES:Animations
END:VEVENT
BEGIN:VEVENT
DTSTART;TZID=UTC:20250903T080000
DTEND;TZID=UTC:20250903T170000
DTSTAMP:20260423T103753
CREATED:20250903T061502Z
LAST-MODIFIED:20250903T061502Z
UID:11580-1756886400-1756918800@quingey.fr
SUMMARY:Buffet chorégraphique
DESCRIPTION:
URL:https://quingey.fr/evenement/buffet-choregraphique/
CATEGORIES:Animations,Autres événements
END:VEVENT
BEGIN:VEVENT
DTSTART;TZID=UTC:20250903T080000
DTEND;TZID=UTC:20250903T170000
DTSTAMP:20260423T103753
CREATED:20250903T061552Z
LAST-MODIFIED:20250903T061552Z
UID:11582-1756886400-1756918800@quingey.fr
SUMMARY:Déambulation
DESCRIPTION:
URL:https://quingey.fr/evenement/deambulation/
CATEGORIES:Animations,Autres événements
END:VEVENT
BEGIN:VEVENT
DTSTART;TZID=UTC:20250903T080000
DTEND;TZID=UTC:20250903T170000
DTSTAMP:20260423T103753
CREATED:20250903T115224Z
LAST-MODIFIED:20250903T115224Z
UID:11586-1756886400-1756918800@quingey.fr
SUMMARY:Atelier retraite
DESCRIPTION:
URL:https://quingey.fr/evenement/atelier-retraite/
CATEGORIES:Autres événements
END:VEVENT
BEGIN:VEVENT
DTSTART;TZID=UTC:20250904T080000
DTEND;TZID=UTC:20250904T170000
DTSTAMP:20260423T103753
CREATED:20250904T152959Z
LAST-MODIFIED:20250904T152959Z
UID:11602-1756972800-1757005200@quingey.fr
SUMMARY:YOGA
DESCRIPTION:
URL:https://quingey.fr/evenement/yoga/
CATEGORIES:Sport
END:VEVENT
BEGIN:VEVENT
DTSTART;TZID=UTC:20250904T093000
DTEND;TZID=UTC:20250904T103000
DTSTAMP:20260423T103753
CREATED:20250829T101200Z
LAST-MODIFIED:20250829T101200Z
UID:11549-1756978200-1756981800@quingey.fr
SUMMARY:ACTI'GYM SENIORS
DESCRIPTION:
URL:https://quingey.fr/evenement/actigym-seniors/
LOCATION:Mairie de Quingey\, salle des Murmures\, Quingey\, 25440\, France
CATEGORIES:Sport
END:VEVENT
BEGIN:VEVENT
DTSTART;TZID=UTC:20250908T080000
DTEND;TZID=UTC:20250908T170000
DTSTAMP:20260423T103753
CREATED:20250901T153757Z
LAST-MODIFIED:20250901T153757Z
UID:11566-1757318400-1757350800@quingey.fr
SUMMARY:QG KARATE DO
DESCRIPTION:REPRISE DES COURS LE 8 SEPTEMBRE 2025
URL:https://quingey.fr/evenement/qg-karate-do/
CATEGORIES:Sport
END:VEVENT
BEGIN:VEVENT
DTSTART;TZID=UTC:20250909T080000
DTEND;TZID=UTC:20250909T170000
DTSTAMP:20260423T103753
CREATED:20250908T121951Z
LAST-MODIFIED:20250908T121951Z
UID:11608-1757404800-1757437200@quingey.fr
SUMMARY:ATELIERS BRODERIE - A PARTIR DU 09 SEPTEMBRE 2025
DESCRIPTION:
URL:https://quingey.fr/evenement/ateliers-broderie-a-partir-du-09-septembre-2025/
CATEGORIES:Animations
END:VEVENT
BEGIN:VEVENT
DTSTART;TZID=UTC:20250909T080000
DTEND;TZID=UTC:20260106T170000
DTSTAMP:20260423T103753
CREATED:20250728T131226Z
LAST-MODIFIED:20250728T131226Z
UID:11443-1757404800-1767718800@quingey.fr
SUMMARY:ateliers numériques
DESCRIPTION:Des ateliers numériques auront lieu à France Services Ornans. Ceux-ci sont organisés en partenariat avec la Fédération d’actions de prévention pour l’autonomie des séniors et se dérouleront sur 10 séances.  \nLes personnes devront apporter leur tablette. Néanmoins\, un prêt de tablette est possible contre chèque de caution. \n  \n2025-09_PROGRAMME_SEANCES_ATELIERS_TABLETTES
URL:https://quingey.fr/evenement/ateliers-numeriques/
CATEGORIES:Autres événements
ATTACH;FMTTYPE=application/pdf:https://quingey.fr/wp-content/uploads/2025/07/2025-09_AFFICHE_ATELIERS_TABLETTE_FSO.pdf
END:VEVENT
BEGIN:VEVENT
DTSTART;TZID=UTC:20250912T080000
DTEND;TZID=UTC:20250912T170000
DTSTAMP:20260423T103753
CREATED:20250912T150354Z
LAST-MODIFIED:20250912T150354Z
UID:11611-1757664000-1757696400@quingey.fr
SUMMARY:Marché des Producteurs à CESSEY
DESCRIPTION:
URL:https://quingey.fr/evenement/marche-des-producteurs-a-cessey/
CATEGORIES:Autres événements
END:VEVENT
BEGIN:VEVENT
DTSTART;TZID=UTC:20250915T080000
DTEND;TZID=UTC:20251208T170000
DTSTAMP:20260423T103753
CREATED:20250730T084236Z
LAST-MODIFIED:20250730T084237Z
UID:11454-1757923200-1765213200@quingey.fr
SUMMARY:Permanence impôt des particuliers
DESCRIPTION:Voici le nouveau planning à compter de septembre avec les horaires des permanences de proximité des “Impôts” dans les locaux de la France services de Quingey. \nC’est une agent de la Direction Générales des Finances Publiques qui se déplace sur rendez-vous pour répondre aux questions techniques des habitants. \nC’est exclusivement sur rendez-vous. \nLa prise de rendez-vous se fait sur www.impots.gouv.fr \nSi les habitants n’y arrivent pas\, France services est là pour les aider.. \n  \n\n\n\nSEPTEMBRE S 38\nLundi 15 Sept\n\n\n \nMatin\nAprès-midi\n\n\n \n9h10 11h50\n14h 16h40\n\n\n \n \n \n\n\nOCTOBRE S 44\nLundi 27 Octobre\n\n\n \n9h10 11h50\n14h 16h40\n\n\n \n \n \n\n\nNOVEMBRE S 46\nLundi 10  Nov\n\n\n \nMatin\nAprès-midi\n\n\n \n9h10 11h50\n14h 16h40\n\n\n \n \n \n\n\nDECEMBRE S 50\nLundi 8 Décembre\n\n\n \nMatin\nAprès-midi\n\n\n \n9h10 11h50\n14h 16h40
URL:https://quingey.fr/evenement/permanence-impot-des-particuliers/
LOCATION:France Service
CATEGORIES:Autres événements
ATTACH;FMTTYPE=image/jpeg:https://quingey.fr/wp-content/uploads/2025/07/logotype-france-services.jpg
END:VEVENT
BEGIN:VEVENT
DTSTART;TZID=UTC:20250917T080000
DTEND;TZID=UTC:20250917T170000
DTSTAMP:20260423T103753
CREATED:20250917T091509Z
LAST-MODIFIED:20250917T091510Z
UID:11616-1758096000-1758128400@quingey.fr
SUMMARY:Halloween Rochejean
DESCRIPTION:
URL:https://quingey.fr/evenement/halloween-rochejean/
CATEGORIES:Animations
END:VEVENT
BEGIN:VEVENT
DTSTART;VALUE=DATE:20250922
DTEND;VALUE=DATE:20251101
DTSTAMP:20260423T103753
CREATED:20250929T084336Z
LAST-MODIFIED:20250929T084336Z
UID:11660-1758499200-1761955199@quingey.fr
SUMMARY:TRAVAUX ROUTE D'ORNANS A PARTIR DU 22/09/2025
DESCRIPTION:
URL:https://quingey.fr/evenement/travaux-route-dornans-a-partir-du-22-09-2025/
CATEGORIES:Autres événements
END:VEVENT
BEGIN:VEVENT
DTSTART;TZID=UTC:20250927T080000
DTEND;TZID=UTC:20250927T183000
DTSTAMP:20260423T103753
CREATED:20250923T120027Z
LAST-MODIFIED:20250923T120027Z
UID:11641-1758960000-1758997800@quingey.fr
SUMMARY:stage danse et spectacle
DESCRIPTION:
URL:https://quingey.fr/evenement/stage-danse-et-spectacle/
CATEGORIES:Autres événements
END:VEVENT
BEGIN:VEVENT
DTSTART;TZID=UTC:20250930T080000
DTEND;TZID=UTC:20251031T170000
DTSTAMP:20260423T103753
CREATED:20250930T060941Z
LAST-MODIFIED:20250930T060941Z
UID:11667-1759219200-1761930000@quingey.fr
SUMMARY:Planning médiathèque octobre 2025
DESCRIPTION:
URL:https://quingey.fr/evenement/planning-mediatheque-octobre-2025/
CATEGORIES:Autres événements
END:VEVENT
END:VCALENDAR