
BEGIN:VCALENDAR
VERSION:2.0
PRODID:-//Quingey - ECPv6.15.20//NONSGML v1.0//EN
CALSCALE:GREGORIAN
METHOD:PUBLISH
X-ORIGINAL-URL:https://quingey.fr
X-WR-CALDESC:Évènements pour Quingey
REFRESH-INTERVAL;VALUE=DURATION:PT1H
X-Robots-Tag:noindex
X-PUBLISHED-TTL:PT1H
BEGIN:VTIMEZONE
TZID:UTC
BEGIN:STANDARD
TZOFFSETFROM:+0000
TZOFFSETTO:+0000
TZNAME:UTC
DTSTART:20240101T000000
END:STANDARD
END:VTIMEZONE
BEGIN:VEVENT
DTSTART;TZID=UTC:20250101T080000
DTEND;TZID=UTC:20251231T170000
DTSTAMP:20260423T090443
CREATED:20250404T074731Z
LAST-MODIFIED:20250404T075518Z
UID:11073-1735718400-1767200400@quingey.fr
SUMMARY:Quingey sports nature 2025
DESCRIPTION:
URL:https://quingey.fr/evenement/quingey-sports-nature-2025/
CATEGORIES:Sport
ATTACH;FMTTYPE=image/jpeg:https://quingey.fr/wp-content/uploads/2025/04/2025-quingey-sport-nature.jpg
END:VEVENT
BEGIN:VEVENT
DTSTART;TZID=UTC:20250402T080000
DTEND;TZID=UTC:20251231T170000
DTSTAMP:20260423T090443
CREATED:20250402T093557Z
LAST-MODIFIED:20250402T093557Z
UID:11064-1743580800-1767200400@quingey.fr
SUMMARY:Permanence CIDFF
DESCRIPTION:Permanence du centre d’information sur les droits des femmes et des familles \nTous les 1er mercredi de 9h à 12h \nUniquement sur rendez-vous au 03 81 25 66 69
URL:https://quingey.fr/evenement/permanence-cidff/
LOCATION:France Service
CATEGORIES:Autres événements
ATTACH;FMTTYPE=application/pdf:https://quingey.fr/wp-content/uploads/2025/04/2025-FS_CIDFF.pdf
END:VEVENT
BEGIN:VEVENT
DTSTART;TZID=UTC:20250901T080000
DTEND;TZID=UTC:20251030T170000
DTSTAMP:20260423T090443
CREATED:20250825T152028Z
LAST-MODIFIED:20250825T152034Z
UID:11529-1756713600-1761843600@quingey.fr
SUMMARY:AFFOUAGE 2025- 2026
DESCRIPTION:
URL:https://quingey.fr/evenement/affouage-2025-2026/
CATEGORIES:Autres événements
END:VEVENT
BEGIN:VEVENT
DTSTART;TZID=UTC:20250901T080000
DTEND;TZID=UTC:20251231T190000
DTSTAMP:20260423T090443
CREATED:20250725T134424Z
LAST-MODIFIED:20250725T134425Z
UID:11432-1756713600-1767207600@quingey.fr
SUMMARY:Permanence semestre 2
DESCRIPTION:
URL:https://quingey.fr/evenement/permanence-semestre-2/
CATEGORIES:Autres événements
ATTACH;FMTTYPE=image/jpeg:https://quingey.fr/wp-content/uploads/2025/07/2025-permanence-maison-ado.jpg
END:VEVENT
BEGIN:VEVENT
DTSTART;TZID=UTC:20250901T080000
DTEND;TZID=UTC:20260630T170000
DTSTAMP:20260423T090443
CREATED:20250801T142422Z
LAST-MODIFIED:20250801T142423Z
UID:11458-1756713600-1782838800@quingey.fr
SUMMARY:Atelier théatre
DESCRIPTION:
URL:https://quingey.fr/evenement/atelier-theatre/
CATEGORIES:Théatre
ATTACH;FMTTYPE=application/pdf:https://quingey.fr/wp-content/uploads/2025/08/Punk-a-mouton.pdf
END:VEVENT
BEGIN:VEVENT
DTSTART;TZID=UTC:20250909T080000
DTEND;TZID=UTC:20260106T170000
DTSTAMP:20260423T090443
CREATED:20250728T131226Z
LAST-MODIFIED:20250728T131226Z
UID:11443-1757404800-1767718800@quingey.fr
SUMMARY:ateliers numériques
DESCRIPTION:Des ateliers numériques auront lieu à France Services Ornans. Ceux-ci sont organisés en partenariat avec la Fédération d’actions de prévention pour l’autonomie des séniors et se dérouleront sur 10 séances.  \nLes personnes devront apporter leur tablette. Néanmoins\, un prêt de tablette est possible contre chèque de caution. \n  \n2025-09_PROGRAMME_SEANCES_ATELIERS_TABLETTES
URL:https://quingey.fr/evenement/ateliers-numeriques/
CATEGORIES:Autres événements
ATTACH;FMTTYPE=application/pdf:https://quingey.fr/wp-content/uploads/2025/07/2025-09_AFFICHE_ATELIERS_TABLETTE_FSO.pdf
END:VEVENT
BEGIN:VEVENT
DTSTART;TZID=UTC:20250915T080000
DTEND;TZID=UTC:20251208T170000
DTSTAMP:20260423T090443
CREATED:20250730T084236Z
LAST-MODIFIED:20250730T084237Z
UID:11454-1757923200-1765213200@quingey.fr
SUMMARY:Permanence impôt des particuliers
DESCRIPTION:Voici le nouveau planning à compter de septembre avec les horaires des permanences de proximité des “Impôts” dans les locaux de la France services de Quingey. \nC’est une agent de la Direction Générales des Finances Publiques qui se déplace sur rendez-vous pour répondre aux questions techniques des habitants. \nC’est exclusivement sur rendez-vous. \nLa prise de rendez-vous se fait sur www.impots.gouv.fr \nSi les habitants n’y arrivent pas\, France services est là pour les aider.. \n  \n\n\n\nSEPTEMBRE S 38\nLundi 15 Sept\n\n\n \nMatin\nAprès-midi\n\n\n \n9h10 11h50\n14h 16h40\n\n\n \n \n \n\n\nOCTOBRE S 44\nLundi 27 Octobre\n\n\n \n9h10 11h50\n14h 16h40\n\n\n \n \n \n\n\nNOVEMBRE S 46\nLundi 10  Nov\n\n\n \nMatin\nAprès-midi\n\n\n \n9h10 11h50\n14h 16h40\n\n\n \n \n \n\n\nDECEMBRE S 50\nLundi 8 Décembre\n\n\n \nMatin\nAprès-midi\n\n\n \n9h10 11h50\n14h 16h40
URL:https://quingey.fr/evenement/permanence-impot-des-particuliers/
LOCATION:France Service
CATEGORIES:Autres événements
ATTACH;FMTTYPE=image/jpeg:https://quingey.fr/wp-content/uploads/2025/07/logotype-france-services.jpg
END:VEVENT
BEGIN:VEVENT
DTSTART;VALUE=DATE:20250922
DTEND;VALUE=DATE:20251101
DTSTAMP:20260423T090443
CREATED:20250929T084336Z
LAST-MODIFIED:20250929T084336Z
UID:11660-1758499200-1761955199@quingey.fr
SUMMARY:TRAVAUX ROUTE D'ORNANS A PARTIR DU 22/09/2025
DESCRIPTION:
URL:https://quingey.fr/evenement/travaux-route-dornans-a-partir-du-22-09-2025/
CATEGORIES:Autres événements
END:VEVENT
BEGIN:VEVENT
DTSTART;TZID=UTC:20250930T080000
DTEND;TZID=UTC:20251031T170000
DTSTAMP:20260423T090443
CREATED:20250930T060941Z
LAST-MODIFIED:20250930T060941Z
UID:11667-1759219200-1761930000@quingey.fr
SUMMARY:Planning médiathèque octobre 2025
DESCRIPTION:
URL:https://quingey.fr/evenement/planning-mediatheque-octobre-2025/
CATEGORIES:Autres événements
END:VEVENT
BEGIN:VEVENT
DTSTART;TZID=UTC:20251004T080000
DTEND;TZID=UTC:20251004T170000
DTSTAMP:20260423T090443
CREATED:20250904T101155Z
LAST-MODIFIED:20250904T101155Z
UID:11599-1759564800-1759597200@quingey.fr
SUMMARY:RANDO GOURMANDE NOCTURNE
DESCRIPTION:
URL:https://quingey.fr/evenement/rando-gourmande-nocturne/
CATEGORIES:Sport
END:VEVENT
BEGIN:VEVENT
DTSTART;TZID=UTC:20251007T080000
DTEND;TZID=UTC:20251007T170000
DTSTAMP:20260423T090443
CREATED:20250901T152626Z
LAST-MODIFIED:20250901T152626Z
UID:11560-1759824000-1759856400@quingey.fr
SUMMARY:DANSE ADULTES
DESCRIPTION:
URL:https://quingey.fr/evenement/danse-adultes/
LOCATION:Espace culturel de Quingey\, 16 rue de l'école\, Quingey\, 25440\, France
CATEGORIES:Sport
END:VEVENT
BEGIN:VEVENT
DTSTART;TZID=UTC:20251009T080000
DTEND;TZID=UTC:20251009T170000
DTSTAMP:20260423T090443
CREATED:20250901T152813Z
LAST-MODIFIED:20250901T152813Z
UID:11562-1759996800-1760029200@quingey.fr
SUMMARY:ATELIER ARTS PLASTIQUES ENFANTS
DESCRIPTION:
URL:https://quingey.fr/evenement/atelier-arts-plastiques-enfants/
CATEGORIES:Animations
END:VEVENT
BEGIN:VEVENT
DTSTART;TZID=UTC:20251009T080000
DTEND;TZID=UTC:20251009T170000
DTSTAMP:20260423T090443
CREATED:20250901T152912Z
LAST-MODIFIED:20250901T152912Z
UID:11564-1759996800-1760029200@quingey.fr
SUMMARY:ATELIER ARTS PLASTIQUES ADOS - ADULTES
DESCRIPTION:
URL:https://quingey.fr/evenement/atelier-arts-plastiques-ados-adultes/
CATEGORIES:Animations
END:VEVENT
BEGIN:VEVENT
DTSTART;TZID=UTC:20251010T140000
DTEND;TZID=UTC:20251010T160000
DTSTAMP:20260423T090443
CREATED:20250929T093619Z
LAST-MODIFIED:20250929T093619Z
UID:11664-1760104800-1760112000@quingey.fr
SUMMARY:Permanence Médiathèque et Espace de vie sociale à France service
DESCRIPTION:
URL:https://quingey.fr/evenement/permanence-mediatheque-et-espace-de-vie-sociale-a-france-service/
LOCATION:France Service
CATEGORIES:Animations
END:VEVENT
BEGIN:VEVENT
DTSTART;TZID=UTC:20251010T160000
DTEND;TZID=UTC:20251010T193000
DTSTAMP:20260423T090443
CREATED:20250926T120417Z
LAST-MODIFIED:20250926T122913Z
UID:11648-1760112000-1760124600@quingey.fr
SUMMARY:Don du sang - vendredi 10 octobre 2025
DESCRIPTION:
URL:https://quingey.fr/evenement/11648/
LOCATION:Espace culturel de Quingey\, 16 rue de l'école\, Quingey\, 25440\, France
CATEGORIES:Autres événements
END:VEVENT
BEGIN:VEVENT
DTSTART;VALUE=DATE:20251011
DTEND;VALUE=DATE:20251013
DTSTAMP:20260423T090443
CREATED:20250923T121157Z
LAST-MODIFIED:20250923T121157Z
UID:11644-1760140800-1760313599@quingey.fr
SUMMARY:STAGE DANSE
DESCRIPTION:
URL:https://quingey.fr/evenement/stage-danse/
CATEGORIES:Animations
END:VEVENT
BEGIN:VEVENT
DTSTART;TZID=UTC:20251013T080000
DTEND;TZID=UTC:20251107T170000
DTSTAMP:20260423T090443
CREATED:20251013T134506Z
LAST-MODIFIED:20251017T132003Z
UID:11712-1760342400-1762534800@quingey.fr
SUMMARY:VENTE de SAPINS
DESCRIPTION:
URL:https://quingey.fr/evenement/11712/
CATEGORIES:Autres événements
ATTACH;FMTTYPE=image/png:https://quingey.fr/wp-content/uploads/2025/10/Vente-de-sapins-affiche.png
END:VEVENT
BEGIN:VEVENT
DTSTART;TZID=UTC:20251014T080000
DTEND;TZID=UTC:20251014T200000
DTSTAMP:20260423T090443
CREATED:20251001T054054Z
LAST-MODIFIED:20251001T054523Z
UID:11673-1760428800-1760472000@quingey.fr
SUMMARY:ménopositive
DESCRIPTION:
URL:https://quingey.fr/evenement/menopositive/
CATEGORIES:Autres événements
END:VEVENT
BEGIN:VEVENT
DTSTART;TZID=UTC:20251014T080000
DTEND;TZID=UTC:20251015T180000
DTSTAMP:20260423T090443
CREATED:20251010T085501Z
LAST-MODIFIED:20251013T135102Z
UID:11709-1760428800-1760551200@quingey.fr
SUMMARY:Bien dans ma tête
DESCRIPTION:
URL:https://quingey.fr/evenement/bien-dans-ma-tete/
LOCATION:médiathèque de Quingey
CATEGORIES:Animations
END:VEVENT
BEGIN:VEVENT
DTSTART;TZID=UTC:20251015T080000
DTEND;TZID=UTC:20251015T180000
DTSTAMP:20260423T090443
CREATED:20251001T054142Z
LAST-MODIFIED:20251001T054436Z
UID:11675-1760515200-1760551200@quingey.fr
SUMMARY:Du soleil derrière les nuages
DESCRIPTION:
URL:https://quingey.fr/evenement/du-soleil-derriere-les-nuages/
CATEGORIES:Autres événements
END:VEVENT
BEGIN:VEVENT
DTSTART;TZID=UTC:20251017T203000
DTEND;TZID=UTC:20251017T213000
DTSTAMP:20260423T090443
CREATED:20251010T082155Z
LAST-MODIFIED:20251017T132156Z
UID:11699-1760733000-1760736600@quingey.fr
SUMMARY:AG FOSSOU
DESCRIPTION:L’Assemblée Générale de l’association le FOSSOU Val de Loue se tiendra le 17 octobre prochain à 20h30 à la salle du Baccu à PAROY. \nLe FOSSOU souhaite vivement un élan mobilisation pour cette assemblée afin compléter l’équipe et bénéficier d’un nouveau souffle\, qui apportera dynamisme et enthousiasme pour cette saison et les saisons à venir. \nSi vous souhaitez vous porter candidat pour rejoindre le Conseil d’Administration\, nous vous remercions de bien vouloir nous en informer en envoyant un mail à fossouvaldeloue@outlook.fr \n  \nLes adhésions à l’association (5 €) seront également possibles sur place.
URL:https://quingey.fr/evenement/ag-fossou/
CATEGORIES:Autres événements
ATTACH;FMTTYPE=image/jpeg:https://quingey.fr/wp-content/uploads/2025/10/298751881_109810868498961_4965089110184662119_n.jpg
END:VEVENT
BEGIN:VEVENT
DTSTART;VALUE=DATE:20251021
DTEND;VALUE=DATE:20251025
DTSTAMP:20260423T090443
CREATED:20250926T122729Z
LAST-MODIFIED:20250926T122825Z
UID:11652-1761004800-1761350399@quingey.fr
SUMMARY:Chantier d'automne - réserve naturelle du ravin de Valbois
DESCRIPTION:
URL:https://quingey.fr/evenement/11652/
CATEGORIES:Animations
END:VEVENT
BEGIN:VEVENT
DTSTART;TZID=UTC:20251021T080000
DTEND;TZID=UTC:20251021T173000
DTSTAMP:20260423T090443
CREATED:20251001T054223Z
LAST-MODIFIED:20251001T054731Z
UID:11677-1761033600-1761067800@quingey.fr
SUMMARY:Courts métrages jeunesse
DESCRIPTION:
URL:https://quingey.fr/evenement/courts-metrages-jeunesse/
CATEGORIES:Autres événements
END:VEVENT
BEGIN:VEVENT
DTSTART;TZID=UTC:20251021T140000
DTEND;TZID=UTC:20251021T163000
DTSTAMP:20260423T090443
CREATED:20251016T133754Z
LAST-MODIFIED:20251017T132033Z
UID:11746-1761055200-1761064200@quingey.fr
SUMMARY:ATELIER BIEN-ÊTRE POUR LES ADOS
DESCRIPTION:
URL:https://quingey.fr/evenement/atelier-bien-etre-pour-les-ados/
LOCATION:QUINGEY
CATEGORIES:Animations
ATTACH;FMTTYPE=image/jpeg:https://quingey.fr/wp-content/uploads/2025/10/ATELIER-BIEN-ETRE-ADO-scaled.jpg
END:VEVENT
END:VCALENDAR